BEGIN:VCALENDAR
VERSION:2.0
PRODID:-//ALIKATE PRODUCCIONES - ECPv6.15.20//NONSGML v1.0//EN
CALSCALE:GREGORIAN
METHOD:PUBLISH
X-WR-CALNAME:ALIKATE PRODUCCIONES
X-ORIGINAL-URL:https://alikateproducciones.com
X-WR-CALDESC:Eventos para ALIKATE PRODUCCIONES
REFRESH-INTERVAL;VALUE=DURATION:PT1H
X-Robots-Tag:noindex
X-PUBLISHED-TTL:PT1H
BEGIN:VTIMEZONE
TZID:Europe/Madrid
BEGIN:DAYLIGHT
TZOFFSETFROM:+0100
TZOFFSETTO:+0200
TZNAME:CEST
DTSTART:20250330T010000
END:DAYLIGHT
BEGIN:STANDARD
TZOFFSETFROM:+0200
TZOFFSETTO:+0100
TZNAME:CET
DTSTART:20251026T010000
END:STANDARD
BEGIN:DAYLIGHT
TZOFFSETFROM:+0100
TZOFFSETTO:+0200
TZNAME:CEST
DTSTART:20260329T010000
END:DAYLIGHT
BEGIN:STANDARD
TZOFFSETFROM:+0200
TZOFFSETTO:+0100
TZNAME:CET
DTSTART:20261025T010000
END:STANDARD
BEGIN:DAYLIGHT
TZOFFSETFROM:+0100
TZOFFSETTO:+0200
TZNAME:CEST
DTSTART:20270328T010000
END:DAYLIGHT
BEGIN:STANDARD
TZOFFSETFROM:+0200
TZOFFSETTO:+0100
TZNAME:CET
DTSTART:20271031T010000
END:STANDARD
END:VTIMEZONE
BEGIN:VEVENT
DTSTART;TZID=Europe/Madrid:20260606T230000
DTEND;TZID=Europe/Madrid:20260606T230000
DTSTAMP:20260421T174813
CREATED:20260418T113249Z
LAST-MODIFIED:20260418T113655Z
UID:4084-1780786800-1780786800@alikateproducciones.com
SUMMARY:CON TARAS Y A LO LOCONerea Gamendia# Benasque
DESCRIPTION:#
URL:https://alikateproducciones.com/evento/con-taras-y-a-lo-loconerea-gamendia-benasque/
LOCATION:La Cumbre «Sabor a Galiza»\, Benasque\, Av. de Francia\, 32\, Benasque\, Huesca\, 22440
CATEGORIES:Benasque,Humor,Nerea Garmendia
ATTACH;FMTTYPE=image/jpeg:https://alikateproducciones.com/wp-content/uploads/2026/04/CON-TARAS-Y-A-LO-LOCO-BENASQUE-6-JUNIO-WEB-1600x900-1.jpg
END:VEVENT
END:VCALENDAR