BEGIN:VCALENDAR
VERSION:2.0
PRODID:-//ALIKATE PRODUCCIONES - ECPv6.15.20//NONSGML v1.0//EN
CALSCALE:GREGORIAN
METHOD:PUBLISH
X-WR-CALNAME:ALIKATE PRODUCCIONES
X-ORIGINAL-URL:https://alikateproducciones.com
X-WR-CALDESC:Eventos para ALIKATE PRODUCCIONES
REFRESH-INTERVAL;VALUE=DURATION:PT1H
X-Robots-Tag:noindex
X-PUBLISHED-TTL:PT1H
BEGIN:VTIMEZONE
TZID:Europe/Madrid
BEGIN:DAYLIGHT
TZOFFSETFROM:+0100
TZOFFSETTO:+0200
TZNAME:CEST
DTSTART:20240331T010000
END:DAYLIGHT
BEGIN:STANDARD
TZOFFSETFROM:+0200
TZOFFSETTO:+0100
TZNAME:CET
DTSTART:20241027T010000
END:STANDARD
BEGIN:DAYLIGHT
TZOFFSETFROM:+0100
TZOFFSETTO:+0200
TZNAME:CEST
DTSTART:20250330T010000
END:DAYLIGHT
BEGIN:STANDARD
TZOFFSETFROM:+0200
TZOFFSETTO:+0100
TZNAME:CET
DTSTART:20251026T010000
END:STANDARD
BEGIN:DAYLIGHT
TZOFFSETFROM:+0100
TZOFFSETTO:+0200
TZNAME:CEST
DTSTART:20260329T010000
END:DAYLIGHT
BEGIN:STANDARD
TZOFFSETFROM:+0200
TZOFFSETTO:+0100
TZNAME:CET
DTSTART:20261025T010000
END:STANDARD
END:VTIMEZONE
BEGIN:VEVENT
DTSTART;TZID=Europe/Madrid:20250322T210000
DTEND;TZID=Europe/Madrid:20250322T210000
DTSTAMP:20260420T054600
CREATED:20250320T095238Z
LAST-MODIFIED:20250320T095238Z
UID:2168-1742677200-1742677200@alikateproducciones.com
SUMMARY:GALA CLAUSURA FESTIVAL CINE DE RIVASLuis Zahera & Palo Capilla# Rivas
DESCRIPTION:#  \nVENTA DE ENTRADAS
URL:https://alikateproducciones.com/evento/gala-clausura-festival-cine-de-rivasluis-zahera-palo-capilla-rivas/
LOCATION:Auditorio Pilar Bardem\, Rivas\, Calle Fundición s/n\, Rivas Vaciamadrid\, Madrid\, 28522
CATEGORIES:Cine,Luis Zahera,Madrid,Palo Capilla,Rivas
ATTACH;FMTTYPE=image/jpeg:https://alikateproducciones.com/wp-content/uploads/2025/03/FESTIVAL-CINE-RIVAS.jpg
END:VEVENT
END:VCALENDAR