BEGIN:VCALENDAR
VERSION:2.0
PRODID:-//ALIKATE PRODUCCIONES - ECPv6.15.20//NONSGML v1.0//EN
CALSCALE:GREGORIAN
METHOD:PUBLISH
X-ORIGINAL-URL:https://alikateproducciones.com
X-WR-CALDESC:Eventos para ALIKATE PRODUCCIONES
REFRESH-INTERVAL;VALUE=DURATION:PT1H
X-Robots-Tag:noindex
X-PUBLISHED-TTL:PT1H
BEGIN:VTIMEZONE
TZID:Europe/Madrid
BEGIN:DAYLIGHT
TZOFFSETFROM:+0100
TZOFFSETTO:+0200
TZNAME:CEST
DTSTART:20240331T010000
END:DAYLIGHT
BEGIN:STANDARD
TZOFFSETFROM:+0200
TZOFFSETTO:+0100
TZNAME:CET
DTSTART:20241027T010000
END:STANDARD
BEGIN:DAYLIGHT
TZOFFSETFROM:+0100
TZOFFSETTO:+0200
TZNAME:CEST
DTSTART:20250330T010000
END:DAYLIGHT
BEGIN:STANDARD
TZOFFSETFROM:+0200
TZOFFSETTO:+0100
TZNAME:CET
DTSTART:20251026T010000
END:STANDARD
BEGIN:DAYLIGHT
TZOFFSETFROM:+0100
TZOFFSETTO:+0200
TZNAME:CEST
DTSTART:20260329T010000
END:DAYLIGHT
BEGIN:STANDARD
TZOFFSETFROM:+0200
TZOFFSETTO:+0100
TZNAME:CET
DTSTART:20261025T010000
END:STANDARD
END:VTIMEZONE
BEGIN:VEVENT
DTSTART;TZID=Europe/Madrid:20251207T203000
DTEND;TZID=Europe/Madrid:20251207T203000
DTSTAMP:20260419T230759
CREATED:20251006T141842Z
LAST-MODIFIED:20251006T145905Z
UID:3264-1765139400-1765139400@alikateproducciones.com
SUMMARY:AHORA LA CHUNGA SOY YOPalo Capilla# Laredo
DESCRIPTION:# Laredo \nVENTA DE ENTRADAS
URL:https://alikateproducciones.com/evento/ahora-la-chunga-soy-yopalo-capilla-laredo/
LOCATION:Casa de Cultura Dr. Velasco\, Laredo\, C. López Seña\, 10\, Laredo\, Cantabria\, 39770
CATEGORIES:Humor,Laredo,Palo Capilla
ATTACH;FMTTYPE=image/jpeg:https://alikateproducciones.com/wp-content/uploads/2025/10/AHORA-LA-CHUNGA-SOY-YO-LAREDO-7-DICIEMBRE-WEB-1600x900-1.jpg
END:VEVENT
END:VCALENDAR