BEGIN:VCALENDAR
VERSION:2.0
PRODID:-//ALIKATE PRODUCCIONES - ECPv6.15.20//NONSGML v1.0//EN
CALSCALE:GREGORIAN
METHOD:PUBLISH
X-ORIGINAL-URL:https://alikateproducciones.com
X-WR-CALDESC:Eventos para ALIKATE PRODUCCIONES
REFRESH-INTERVAL;VALUE=DURATION:PT1H
X-Robots-Tag:noindex
X-PUBLISHED-TTL:PT1H
BEGIN:VTIMEZONE
TZID:Europe/Madrid
BEGIN:DAYLIGHT
TZOFFSETFROM:+0100
TZOFFSETTO:+0200
TZNAME:CEST
DTSTART:20240331T010000
END:DAYLIGHT
BEGIN:STANDARD
TZOFFSETFROM:+0200
TZOFFSETTO:+0100
TZNAME:CET
DTSTART:20241027T010000
END:STANDARD
BEGIN:DAYLIGHT
TZOFFSETFROM:+0100
TZOFFSETTO:+0200
TZNAME:CEST
DTSTART:20250330T010000
END:DAYLIGHT
BEGIN:STANDARD
TZOFFSETFROM:+0200
TZOFFSETTO:+0100
TZNAME:CET
DTSTART:20251026T010000
END:STANDARD
BEGIN:DAYLIGHT
TZOFFSETFROM:+0100
TZOFFSETTO:+0200
TZNAME:CEST
DTSTART:20260329T010000
END:DAYLIGHT
BEGIN:STANDARD
TZOFFSETFROM:+0200
TZOFFSETTO:+0100
TZNAME:CET
DTSTART:20261025T010000
END:STANDARD
END:VTIMEZONE
BEGIN:VEVENT
DTSTART;TZID=Europe/Madrid:20250911T220000
DTEND;TZID=Europe/Madrid:20250911T220000
DTSTAMP:20260422T232058
CREATED:20250801T071947Z
LAST-MODIFIED:20250807T103327Z
UID:3006-1757628000-1757628000@alikateproducciones.com
SUMMARY:GIRA LA COMEDIAPalo Capilla\, Dani Fontecha\, Luis Larrodera y Silvina Magari# Fuentidueña de Tajo
DESCRIPTION:#
URL:https://alikateproducciones.com/evento/gira-la-comediapalo-capilla-dani-fontecha-luis-larrodera-y-silvina-magari-fuentiduena-de-tajo/
LOCATION:Plaza de la Constitución\, Fuentidueña de Tajo\, Pl. de la Constitución\, Fuentidueña de Tajo\, Madrid\, 28597
CATEGORIES:Dani Fontecha,Fuentidueña de Tajo,Humor,Luis Larrodera,Palo Capilla,Silvina Magari
ATTACH;FMTTYPE=image/jpeg:https://alikateproducciones.com/wp-content/uploads/2025/08/GIRA-LA-COMEDIA-FUENTIDUENA-DE-TAJO-11-SEPTIEMBRE-WEB-1600x900-1.jpg
END:VEVENT
END:VCALENDAR