BEGIN:VCALENDAR
VERSION:2.0
PRODID:-//ALIKATE PRODUCCIONES - ECPv6.15.20//NONSGML v1.0//EN
CALSCALE:GREGORIAN
METHOD:PUBLISH
X-WR-CALNAME:ALIKATE PRODUCCIONES
X-ORIGINAL-URL:https://alikateproducciones.com
X-WR-CALDESC:Eventos para ALIKATE PRODUCCIONES
REFRESH-INTERVAL;VALUE=DURATION:PT1H
X-Robots-Tag:noindex
X-PUBLISHED-TTL:PT1H
BEGIN:VTIMEZONE
TZID:Europe/Madrid
BEGIN:DAYLIGHT
TZOFFSETFROM:+0100
TZOFFSETTO:+0200
TZNAME:CEST
DTSTART:20250330T010000
END:DAYLIGHT
BEGIN:STANDARD
TZOFFSETFROM:+0200
TZOFFSETTO:+0100
TZNAME:CET
DTSTART:20251026T010000
END:STANDARD
BEGIN:DAYLIGHT
TZOFFSETFROM:+0100
TZOFFSETTO:+0200
TZNAME:CEST
DTSTART:20260329T010000
END:DAYLIGHT
BEGIN:STANDARD
TZOFFSETFROM:+0200
TZOFFSETTO:+0100
TZNAME:CET
DTSTART:20261025T010000
END:STANDARD
BEGIN:DAYLIGHT
TZOFFSETFROM:+0100
TZOFFSETTO:+0200
TZNAME:CEST
DTSTART:20270328T010000
END:DAYLIGHT
BEGIN:STANDARD
TZOFFSETFROM:+0200
TZOFFSETTO:+0100
TZNAME:CET
DTSTART:20271031T010000
END:STANDARD
END:VTIMEZONE
BEGIN:VEVENT
DTSTART;TZID=Europe/Madrid:20260222T203000
DTEND;TZID=Europe/Madrid:20260222T203000
DTSTAMP:20260420T012006
CREATED:20260213T160610Z
LAST-MODIFIED:20260213T160747Z
UID:3880-1771792200-1771792200@alikateproducciones.com
SUMMARY:CON TARAS Y A LO LOCONerea Gamendia# San Sebastián
DESCRIPTION:# Donostia / San Sebastián \nVENTA DE ENTRADAS
URL:https://alikateproducciones.com/evento/con-taras-y-a-lo-loconerea-gamendia-san-sebastian/
LOCATION:Andén Donostia\, San Sebastián\, María Dolores Agirre Kalea\, 12\, Donostia / San Sebastián\, Gipuzkoa\, 20012
CATEGORIES:Humor,Nerea Garmendia,San Sebastián
ATTACH;FMTTYPE=image/jpeg:https://alikateproducciones.com/wp-content/uploads/2026/02/CON-TARAS-Y-A-LO-LOCO-SAN-SEBASTIAN-22-FEBRERO-WEB-1600x900-1.jpg
END:VEVENT
END:VCALENDAR