BEGIN:VCALENDAR
VERSION:2.0
PRODID:-//ALIKATE PRODUCCIONES - ECPv6.15.20//NONSGML v1.0//EN
CALSCALE:GREGORIAN
METHOD:PUBLISH
X-WR-CALNAME:ALIKATE PRODUCCIONES
X-ORIGINAL-URL:https://alikateproducciones.com
X-WR-CALDESC:Eventos para ALIKATE PRODUCCIONES
REFRESH-INTERVAL;VALUE=DURATION:PT1H
X-Robots-Tag:noindex
X-PUBLISHED-TTL:PT1H
BEGIN:VTIMEZONE
TZID:Europe/Madrid
BEGIN:DAYLIGHT
TZOFFSETFROM:+0100
TZOFFSETTO:+0200
TZNAME:CEST
DTSTART:20240331T010000
END:DAYLIGHT
BEGIN:STANDARD
TZOFFSETFROM:+0200
TZOFFSETTO:+0100
TZNAME:CET
DTSTART:20241027T010000
END:STANDARD
BEGIN:DAYLIGHT
TZOFFSETFROM:+0100
TZOFFSETTO:+0200
TZNAME:CEST
DTSTART:20250330T010000
END:DAYLIGHT
BEGIN:STANDARD
TZOFFSETFROM:+0200
TZOFFSETTO:+0100
TZNAME:CET
DTSTART:20251026T010000
END:STANDARD
BEGIN:DAYLIGHT
TZOFFSETFROM:+0100
TZOFFSETTO:+0200
TZNAME:CEST
DTSTART:20260329T010000
END:DAYLIGHT
BEGIN:STANDARD
TZOFFSETFROM:+0200
TZOFFSETTO:+0100
TZNAME:CET
DTSTART:20261025T010000
END:STANDARD
END:VTIMEZONE
BEGIN:VEVENT
DTSTART;TZID=Europe/Madrid:20251108T193000
DTEND;TZID=Europe/Madrid:20251108T193000
DTSTAMP:20260420T073552
CREATED:20250926T144022Z
LAST-MODIFIED:20250926T144022Z
UID:3218-1762630200-1762630200@alikateproducciones.com
SUMMARY:FABIOLO CONNECTIONRafa Maza# Vitoria
DESCRIPTION:#  \nVENTA DE ENTRADAS
URL:https://alikateproducciones.com/evento/fabiolo-connectionrafa-maza-vitoria/
LOCATION:Teatro Jesús Ibañez de Matauco (Centro Cívico Hegoalde)\, Vitoria\, Alberto Schommer Kalea\, 10\, Vitoria-Gasteiz\, Araba\, 01006
CATEGORIES:Humor,Rafa Maza,Vitoria
ATTACH;FMTTYPE=image/jpeg:https://alikateproducciones.com/wp-content/uploads/2025/09/FABIOLO-CONNECTION-VITORIA-8-NOVIEMBRE-WEB-1600x900-1.jpg
END:VEVENT
END:VCALENDAR